BEGIN:VCALENDAR
VERSION:2.0
PRODID:-//Midhurst Yellow Bus - ECPv4.8.1//NONSGML v1.0//EN
CALSCALE:GREGORIAN
METHOD:PUBLISH
X-WR-CALNAME:Midhurst Yellow Bus
X-ORIGINAL-URL:https://www.midhurstyellowbus.org.uk
X-WR-CALDESC:Events for Midhurst Yellow Bus
BEGIN:VEVENT
DTSTART;TZID=Europe/London:20231028T113000
DTEND;TZID=Europe/London:20231028T130000
DTSTAMP:20260424T163918
CREATED:20231024T112922Z
LAST-MODIFIED:20231024T112922Z
UID:9434-1698492600-1698498000@www.midhurstyellowbus.org.uk
SUMMARY:Bus Hire for wedding in Heyshott
DESCRIPTION:
URL:https://www.midhurstyellowbus.org.uk/event/bus-hire-for-wedding-in-heyshott/2023-10-28/
END:VEVENT
END:VCALENDAR