BEGIN:VCALENDAR
VERSION:2.0
PRODID:-//Midhurst Yellow Bus - ECPv4.8.1//NONSGML v1.0//EN
CALSCALE:GREGORIAN
METHOD:PUBLISH
X-WR-CALNAME:Midhurst Yellow Bus
X-ORIGINAL-URL:https://www.midhurstyellowbus.org.uk
X-WR-CALDESC:Events for Midhurst Yellow Bus
BEGIN:VEVENT
DTSTART;TZID=Europe/London:20231108T100000
DTEND;TZID=Europe/London:20231108T153000
DTSTAMP:20260421T224658
CREATED:20231030T112230Z
LAST-MODIFIED:20231030T112230Z
UID:9437-1699437600-1699457400@www.midhurstyellowbus.org.uk
SUMMARY:Shopping Trip to Petersfield
DESCRIPTION:
URL:https://www.midhurstyellowbus.org.uk/event/shopping-trip-to-petersfield/
END:VEVENT
END:VCALENDAR