BEGIN:VCALENDAR
VERSION:2.0
PRODID:-//Midhurst Yellow Bus - ECPv4.8.1//NONSGML v1.0//EN
CALSCALE:GREGORIAN
METHOD:PUBLISH
X-WR-CALNAME:Midhurst Yellow Bus
X-ORIGINAL-URL:https://www.midhurstyellowbus.org.uk
X-WR-CALDESC:Events for Midhurst Yellow Bus
BEGIN:VEVENT
DTSTART;TZID=Europe/London:20241008T090000
DTEND;TZID=Europe/London:20241008T130000
DTSTAMP:20260424T115515
CREATED:20240115T110148Z
LAST-MODIFIED:20240229T124110Z
UID:9740-1728378000-1728392400@www.midhurstyellowbus.org.uk
SUMMARY:Tuesday scheduled service
DESCRIPTION:
URL:https://www.midhurstyellowbus.org.uk/event/tuesday-scheduled-service-2/2024-10-08/
END:VEVENT
END:VCALENDAR