BEGIN:VCALENDAR
VERSION:2.0
PRODID:-//Midhurst Yellow Bus - ECPv4.8.1//NONSGML v1.0//EN
CALSCALE:GREGORIAN
METHOD:PUBLISH
X-WR-CALNAME:Midhurst Yellow Bus
X-ORIGINAL-URL:https://www.midhurstyellowbus.org.uk
X-WR-CALDESC:Events for Midhurst Yellow Bus
BEGIN:VEVENT
DTSTART;VALUE=DATE:20241016
DTEND;VALUE=DATE:20241017
DTSTAMP:20260425T014331
CREATED:20240115T200256Z
LAST-MODIFIED:20240115T200256Z
UID:9788-1729036800-1729123199@www.midhurstyellowbus.org.uk
SUMMARY:Greyhound Racing HOVE
DESCRIPTION:
URL:https://www.midhurstyellowbus.org.uk/event/greyhound-racing-hove-2/
END:VEVENT
END:VCALENDAR