BEGIN:VCALENDAR
VERSION:2.0
PRODID:-//Midhurst Yellow Bus - ECPv4.8.1//NONSGML v1.0//EN
CALSCALE:GREGORIAN
METHOD:PUBLISH
X-WR-CALNAME:Midhurst Yellow Bus
X-ORIGINAL-URL:https://www.midhurstyellowbus.org.uk
X-WR-CALDESC:Events for Midhurst Yellow Bus
BEGIN:VEVENT
DTSTART;TZID=Europe/London:20241017T090000
DTEND;TZID=Europe/London:20241017T130000
DTSTAMP:20260425T033048
CREATED:20240115T110257Z
LAST-MODIFIED:20240115T110748Z
UID:9622-1729155600-1729170000@www.midhurstyellowbus.org.uk
SUMMARY:Thursday scheduled service
DESCRIPTION:
URL:https://www.midhurstyellowbus.org.uk/event/thursday-scheduled-service-2/2024-10-17/
CATEGORIES:Bus schedules
END:VEVENT
BEGIN:VEVENT
DTSTART;TZID=Europe/London:20241017T130000
DTEND;TZID=Europe/London:20241017T170000
DTSTAMP:20260425T033048
CREATED:20240117T094558Z
LAST-MODIFIED:20240117T094558Z
UID:9946-1729170000-1729184400@www.midhurstyellowbus.org.uk
SUMMARY:Midhurst Shopping Service
DESCRIPTION:
URL:https://www.midhurstyellowbus.org.uk/event/midhurst-shopping-service-2/2024-10-17/
END:VEVENT
END:VCALENDAR