BEGIN:VCALENDAR
VERSION:2.0
PRODID:-//Midhurst Yellow Bus - ECPv4.8.1//NONSGML v1.0//EN
CALSCALE:GREGORIAN
METHOD:PUBLISH
X-WR-CALNAME:Midhurst Yellow Bus
X-ORIGINAL-URL:https://www.midhurstyellowbus.org.uk
X-WR-CALDESC:Events for Midhurst Yellow Bus
BEGIN:VEVENT
DTSTART;TZID=Europe/London:20240508T130000
DTEND;TZID=Europe/London:20240508T143000
DTSTAMP:20260425T124801
CREATED:20240426T090703Z
LAST-MODIFIED:20240426T090703Z
UID:10061-1715173200-1715178600@www.midhurstyellowbus.org.uk
SUMMARY:Escort Training
DESCRIPTION:
URL:https://www.midhurstyellowbus.org.uk/event/escort-training/
CATEGORIES:Helper/Escort Training
END:VEVENT
END:VCALENDAR